BEGIN:VCALENDAR
VERSION:2.0
PRODID:-//Squarespace Inc/Squarespace 6//v6//EN
BEGIN:VEVENT
UID:5de872e6cf364a1186eb18bd@squarespace.com
DTSTAMP:20191205T030625Z
DTSTART:20191213T000000Z
DTEND:20191224T010000Z
SUMMARY:12 Days of Christmas at Kogarah Clubhouse 🎄
END:VEVENT
END:VCALENDAR
