BEGIN:VCALENDAR
VERSION:2.0
PRODID:-//Squarespace Inc/Squarespace 6//v6//EN
BEGIN:VEVENT
UID:5e4d5d73a4dd4b67c961dd3c@squarespace.com
DTSTAMP:20200219T161719Z
DTSTART:20200228T090000Z
DTEND:20200228T125900Z
SUMMARY:CLUBHOUSE FRIDAYS Launch Night
END:VEVENT
END:VCALENDAR
