BEGIN:VCALENDAR
VERSION:2.0
PRODID:-//Squarespace Inc/Squarespace 6//v6//EN
BEGIN:VEVENT
UID:5e58510bf3c5a2688d9aa193@squarespace.com
DTSTAMP:20200227T233704Z
DTSTART:20200311T230000Z
DTEND:20200312T120000Z
SUMMARY:NRL TIPPING COMPETITION
END:VEVENT
END:VCALENDAR
